BEGIN:VCALENDAR
VERSION:2.0
PRODID:-//The Association of Master Herbalists - ECPv6.15.13//NONSGML v1.0//EN
CALSCALE:GREGORIAN
METHOD:PUBLISH
X-WR-CALNAME:The Association of Master Herbalists
X-ORIGINAL-URL:https://theamh.uk
X-WR-CALDESC:Events for The Association of Master Herbalists
REFRESH-INTERVAL;VALUE=DURATION:PT1H
X-Robots-Tag:noindex
X-PUBLISHED-TTL:PT1H
BEGIN:VTIMEZONE
TZID:Europe/London
BEGIN:DAYLIGHT
TZOFFSETFROM:+0000
TZOFFSETTO:+0100
TZNAME:BST
DTSTART:20230326T010000
END:DAYLIGHT
BEGIN:STANDARD
TZOFFSETFROM:+0100
TZOFFSETTO:+0000
TZNAME:GMT
DTSTART:20231029T010000
END:STANDARD
BEGIN:DAYLIGHT
TZOFFSETFROM:+0000
TZOFFSETTO:+0100
TZNAME:BST
DTSTART:20240331T010000
END:DAYLIGHT
BEGIN:STANDARD
TZOFFSETFROM:+0100
TZOFFSETTO:+0000
TZNAME:GMT
DTSTART:20241027T010000
END:STANDARD
BEGIN:DAYLIGHT
TZOFFSETFROM:+0000
TZOFFSETTO:+0100
TZNAME:BST
DTSTART:20250330T010000
END:DAYLIGHT
BEGIN:STANDARD
TZOFFSETFROM:+0100
TZOFFSETTO:+0000
TZNAME:GMT
DTSTART:20251026T010000
END:STANDARD
END:VTIMEZONE
BEGIN:VEVENT
DTSTART;TZID=Europe/London:20240617T190000
DTEND;TZID=Europe/London:20240617T210000
DTSTAMP:20260422T105839
CREATED:20240603T154803Z
LAST-MODIFIED:20240603T154850Z
UID:6317-1718650800-1718658000@theamh.uk
SUMMARY:An Introduction to Marma Therapy with Jonathan Hinde
DESCRIPTION:Book Here
URL:https://theamh.uk/event/an-introduction-to-marma-therapy-with-jonathan-hinde/
LOCATION:Online
ATTACH;FMTTYPE=image/png:https://theamh.uk/wp-content/uploads/2024/06/AMH-Eventbrite-Images.png
ORGANIZER;CN="The AMH":MAILTO:masterherbalists@gmail.com
END:VEVENT
END:VCALENDAR