BEGIN:VCALENDAR
VERSION:2.0
PRODID:-//The Association of Master Herbalists - ECPv6.15.13//NONSGML v1.0//EN
CALSCALE:GREGORIAN
METHOD:PUBLISH
X-ORIGINAL-URL:https://theamh.uk
X-WR-CALDESC:Events for The Association of Master Herbalists
REFRESH-INTERVAL;VALUE=DURATION:PT1H
X-Robots-Tag:noindex
X-PUBLISHED-TTL:PT1H
BEGIN:VTIMEZONE
TZID:Europe/London
BEGIN:DAYLIGHT
TZOFFSETFROM:+0000
TZOFFSETTO:+0100
TZNAME:BST
DTSTART:20240331T010000
END:DAYLIGHT
BEGIN:STANDARD
TZOFFSETFROM:+0100
TZOFFSETTO:+0000
TZNAME:GMT
DTSTART:20241027T010000
END:STANDARD
BEGIN:DAYLIGHT
TZOFFSETFROM:+0000
TZOFFSETTO:+0100
TZNAME:BST
DTSTART:20250330T010000
END:DAYLIGHT
BEGIN:STANDARD
TZOFFSETFROM:+0100
TZOFFSETTO:+0000
TZNAME:GMT
DTSTART:20251026T010000
END:STANDARD
BEGIN:DAYLIGHT
TZOFFSETFROM:+0000
TZOFFSETTO:+0100
TZNAME:BST
DTSTART:20260329T010000
END:DAYLIGHT
BEGIN:STANDARD
TZOFFSETFROM:+0100
TZOFFSETTO:+0000
TZNAME:GMT
DTSTART:20261025T010000
END:STANDARD
END:VTIMEZONE
BEGIN:VEVENT
DTSTART;TZID=Europe/London:20250603T183000
DTEND;TZID=Europe/London:20250603T200000
DTSTAMP:20260422T164008
CREATED:20250516T132728Z
LAST-MODIFIED:20250516T132728Z
UID:6407-1748975400-1748980800@theamh.uk
SUMMARY:Reading Hands for Health and Healing with Johnny Fincham
DESCRIPTION:BOOK HERE
URL:https://theamh.uk/event/reading-hands-for-health-and-healing-with-johnny-fincham/
LOCATION:Online
ATTACH;FMTTYPE=image/png:https://theamh.uk/wp-content/uploads/2025/05/Johnny-Fincham.png
ORGANIZER;CN="The AMH":MAILTO:masterherbalists@gmail.com
END:VEVENT
BEGIN:VEVENT
DTSTART;TZID=Europe/London:20250624T183000
DTEND;TZID=Europe/London:20250624T193000
DTSTAMP:20260422T164008
CREATED:20250617T085637Z
LAST-MODIFIED:20250617T085637Z
UID:6485-1750789800-1750793400@theamh.uk
SUMMARY:Dancing with Goddesses with Agnieszka Drabek Prime
DESCRIPTION:BOOK HERE
URL:https://theamh.uk/event/dancing-with-goddesses-with-agnieszka-drabek-prime/
LOCATION:Online
ATTACH;FMTTYPE=image/png:https://theamh.uk/wp-content/uploads/2025/06/Dancing-with-Goddesses.png
ORGANIZER;CN="The AMH":MAILTO:masterherbalists@gmail.com
END:VEVENT
END:VCALENDAR