BEGIN:VCALENDAR
VERSION:2.0
PRODID:-//The Association of Master Herbalists - ECPv6.15.13//NONSGML v1.0//EN
CALSCALE:GREGORIAN
METHOD:PUBLISH
X-WR-CALNAME:The Association of Master Herbalists
X-ORIGINAL-URL:https://theamh.uk
X-WR-CALDESC:Events for The Association of Master Herbalists
REFRESH-INTERVAL;VALUE=DURATION:PT1H
X-Robots-Tag:noindex
X-PUBLISHED-TTL:PT1H
BEGIN:VTIMEZONE
TZID:Europe/London
BEGIN:DAYLIGHT
TZOFFSETFROM:+0000
TZOFFSETTO:+0100
TZNAME:BST
DTSTART:20220327T010000
END:DAYLIGHT
BEGIN:STANDARD
TZOFFSETFROM:+0100
TZOFFSETTO:+0000
TZNAME:GMT
DTSTART:20221030T010000
END:STANDARD
BEGIN:DAYLIGHT
TZOFFSETFROM:+0000
TZOFFSETTO:+0100
TZNAME:BST
DTSTART:20230326T010000
END:DAYLIGHT
BEGIN:STANDARD
TZOFFSETFROM:+0100
TZOFFSETTO:+0000
TZNAME:GMT
DTSTART:20231029T010000
END:STANDARD
BEGIN:DAYLIGHT
TZOFFSETFROM:+0000
TZOFFSETTO:+0100
TZNAME:BST
DTSTART:20240331T010000
END:DAYLIGHT
BEGIN:STANDARD
TZOFFSETFROM:+0100
TZOFFSETTO:+0000
TZNAME:GMT
DTSTART:20241027T010000
END:STANDARD
END:VTIMEZONE
BEGIN:VEVENT
DTSTART;TZID=Europe/London:20231120T190000
DTEND;TZID=Europe/London:20231120T190000
DTSTAMP:20260423T083843
CREATED:20231013T165144Z
LAST-MODIFIED:20231013T165144Z
UID:6229-1700506800-1700506800@theamh.uk
SUMMARY:Women Healers Through History with Elisabeth Brooke
DESCRIPTION:Register Here
URL:https://theamh.uk/event/women-healers-through-history-with-elisabeth-brooke/
LOCATION:Online
ATTACH;FMTTYPE=image/png:https://theamh.uk/wp-content/uploads/2023/10/ElisabethBrooke.png
ORGANIZER;CN="The AMH":MAILTO:masterherbalists@gmail.com
END:VEVENT
BEGIN:VEVENT
DTSTART;TZID=Europe/London:20231114T180000
DTEND;TZID=Europe/London:20231114T180000
DTSTAMP:20260423T083843
CREATED:20231013T162752Z
LAST-MODIFIED:20231013T164925Z
UID:6225-1699984800-1699984800@theamh.uk
SUMMARY:An introduction to Medicinal Mushrooms & their history of therapeutic uses with Sophie Barrett
DESCRIPTION:Register Here
URL:https://theamh.uk/event/an-introduction-to-medicinal-mushrooms-their-history-of-therapeutic-uses-with-sophie-barrett/
LOCATION:Online
ATTACH;FMTTYPE=image/png:https://theamh.uk/wp-content/uploads/2023/10/SophieBarrett.png
ORGANIZER;CN="The AMH":MAILTO:masterherbalists@gmail.com
END:VEVENT
BEGIN:VEVENT
DTSTART;TZID=Europe/London:20231106T190000
DTEND;TZID=Europe/London:20231106T190000
DTSTAMP:20260423T083843
CREATED:20231013T161854Z
LAST-MODIFIED:20231013T164811Z
UID:6220-1699297200-1699297200@theamh.uk
SUMMARY:Food as Medicine: a handbook of natural nutrition with Kirsten Hartvig
DESCRIPTION:Register Here
URL:https://theamh.uk/event/food-as-medicine-a-handbook-of-natural-nutrition-with-kirsten-hartvig/
LOCATION:Online
ATTACH;FMTTYPE=image/png:https://theamh.uk/wp-content/uploads/2023/10/KirstenHartvig.png
ORGANIZER;CN="The AMH":MAILTO:masterherbalists@gmail.com
END:VEVENT
BEGIN:VEVENT
DTSTART;TZID=Europe/London:20231019T190000
DTEND;TZID=Europe/London:20231019T210000
DTSTAMP:20260423T083843
CREATED:20230829T131629Z
LAST-MODIFIED:20230919T154922Z
UID:6196-1697742000-1697749200@theamh.uk
SUMMARY:Autumn - a time to prepare for Winter immunity with Barbara Wilkinson
DESCRIPTION:Register Now
URL:https://theamh.uk/event/autumn-a-time-to-prepare-and-preserve-with-barbara-wilkinson/
LOCATION:Online
ATTACH;FMTTYPE=image/png:https://theamh.uk/wp-content/uploads/2023/08/Autumn-the-season-of-mists-and-mellow-fruitfulness-is-a-time-to-prepare-and-preserve-2.png
ORGANIZER;CN="The AMH":MAILTO:masterherbalists@gmail.com
END:VEVENT
BEGIN:VEVENT
DTSTART;TZID=Europe/London:20230819T080000
DTEND;TZID=Europe/London:20230820T170000
DTSTAMP:20260423T083843
CREATED:20230511T093821Z
LAST-MODIFIED:20230511T102006Z
UID:6094-1692432000-1692550800@theamh.uk
SUMMARY:Avicenna: Fragrant Herbal Pharmacy Principles & Practice - Yorkshire
DESCRIPTION:Booking Information
URL:https://theamh.uk/event/avicenna-weekend-seminar-yorkshire/
LOCATION:Yorkshire\, The Meditation Centre\, Sedbergh\, LA10 5QR\, United Kingdom
END:VEVENT
BEGIN:VEVENT
DTSTART;TZID=Europe/London:20230812T080000
DTEND;TZID=Europe/London:20230813T170000
DTSTAMP:20260423T083843
CREATED:20230511T090634Z
LAST-MODIFIED:20230511T102116Z
UID:6087-1691827200-1691946000@theamh.uk
SUMMARY:Avicenna: Fragrant Herbal Pharmacy Principles & Practice - Wales
DESCRIPTION:Booking Information
URL:https://theamh.uk/event/avicenna-weekend-seminar-wales/
LOCATION:Wales\, Cilcennin Village Hall\, Cilcennin\, SA48 8RF\, United Kingdom
END:VEVENT
BEGIN:VEVENT
DTSTART;TZID=Europe/London:20230710T190000
DTEND;TZID=Europe/London:20230710T200000
DTSTAMP:20260423T083843
CREATED:20230510T125700Z
LAST-MODIFIED:20230512T060104Z
UID:6083-1689015600-1689019200@theamh.uk
SUMMARY:Modern Iridology
DESCRIPTION:Book Here
URL:https://theamh.uk/event/modern-iridology/
LOCATION:Online
END:VEVENT
BEGIN:VEVENT
DTSTART;TZID=Europe/London:20230707T160000
DTEND;TZID=Europe/London:20230709T140000
DTSTAMP:20260423T083843
CREATED:20230308T110955Z
LAST-MODIFIED:20230629T155841Z
UID:5911-1688745600-1688911200@theamh.uk
SUMMARY:AMH & URHP Summer Gathering 2023
DESCRIPTION:Conference Schedule & Booking Information
URL:https://theamh.uk/event/amh-urhp-summer-gathering-2023/
LOCATION:The Purley Chase Centre\, Atherstone\, CV9 2RQ\, United Kingdom
ATTACH;FMTTYPE=image/jpeg:https://theamh.uk/wp-content/uploads/2023/03/Banner.jpg
END:VEVENT
BEGIN:VEVENT
DTSTART;TZID=Europe/London:20230629T190000
DTEND;TZID=Europe/London:20230629T210000
DTSTAMP:20260423T083843
CREATED:20230511T110348Z
LAST-MODIFIED:20230511T110348Z
UID:6099-1688065200-1688072400@theamh.uk
SUMMARY:Medicinal Mushrooms & The Gut
DESCRIPTION:Booking Information
URL:https://theamh.uk/event/medicinal-mushrooms-the-gut/
LOCATION:Online
END:VEVENT
BEGIN:VEVENT
DTSTART;TZID=Europe/London:20230626T190000
DTEND;TZID=Europe/London:20230626T200000
DTSTAMP:20260423T083843
CREATED:20230512T060332Z
LAST-MODIFIED:20230512T060332Z
UID:6082-1687806000-1687809600@theamh.uk
SUMMARY:Plant Medicine: The Teachings of Christopher Hedley and Non Shaw
DESCRIPTION:Book Here\n 
URL:https://theamh.uk/event/plant-medicine-the-teachings-of-christopher-hedley-and-non-shaw/
LOCATION:Online
END:VEVENT
BEGIN:VEVENT
DTSTART;TZID=Europe/London:20230612T190000
DTEND;TZID=Europe/London:20230612T200000
DTSTAMP:20260423T083843
CREATED:20230512T060422Z
LAST-MODIFIED:20230512T060422Z
UID:6081-1686596400-1686600000@theamh.uk
SUMMARY:A Working Herbal Dispensary
DESCRIPTION:Book Here\n 
URL:https://theamh.uk/event/a-working-herbal-dispensary/
LOCATION:Online
END:VEVENT
BEGIN:VEVENT
DTSTART;TZID=Europe/London:20230605T190000
DTEND;TZID=Europe/London:20230605T200000
DTSTAMP:20260423T083843
CREATED:20230516T154937Z
LAST-MODIFIED:20230516T154937Z
UID:6116-1685991600-1685995200@theamh.uk
SUMMARY:An Introduction to Vedic Astrology & Its Use in Medicine
DESCRIPTION:Book Here
URL:https://theamh.uk/event/an-introduction-to-vedic-astrology-its-use-in-medicine/
LOCATION:Online
END:VEVENT
END:VCALENDAR