BEGIN:VCALENDAR
VERSION:2.0
PRODID:-//The Association of Master Herbalists - ECPv6.15.13//NONSGML v1.0//EN
CALSCALE:GREGORIAN
METHOD:PUBLISH
X-WR-CALNAME:The Association of Master Herbalists
X-ORIGINAL-URL:https://theamh.uk
X-WR-CALDESC:Events for The Association of Master Herbalists
REFRESH-INTERVAL;VALUE=DURATION:PT1H
X-Robots-Tag:noindex
X-PUBLISHED-TTL:PT1H
BEGIN:VTIMEZONE
TZID:Europe/London
BEGIN:DAYLIGHT
TZOFFSETFROM:+0000
TZOFFSETTO:+0100
TZNAME:BST
DTSTART:20250330T010000
END:DAYLIGHT
BEGIN:STANDARD
TZOFFSETFROM:+0100
TZOFFSETTO:+0000
TZNAME:GMT
DTSTART:20251026T010000
END:STANDARD
BEGIN:DAYLIGHT
TZOFFSETFROM:+0000
TZOFFSETTO:+0100
TZNAME:BST
DTSTART:20260329T010000
END:DAYLIGHT
BEGIN:STANDARD
TZOFFSETFROM:+0100
TZOFFSETTO:+0000
TZNAME:GMT
DTSTART:20261025T010000
END:STANDARD
BEGIN:DAYLIGHT
TZOFFSETFROM:+0000
TZOFFSETTO:+0100
TZNAME:BST
DTSTART:20270328T010000
END:DAYLIGHT
BEGIN:STANDARD
TZOFFSETFROM:+0100
TZOFFSETTO:+0000
TZNAME:GMT
DTSTART:20271031T010000
END:STANDARD
END:VTIMEZONE
BEGIN:VEVENT
DTSTART;TZID=Europe/London:20260413T190000
DTEND;TZID=Europe/London:20260413T200000
DTSTAMP:20260420T162208
CREATED:20260317T101222Z
LAST-MODIFIED:20260317T101222Z
UID:6643-1776106800-1776110400@theamh.uk
SUMMARY:Unravelling the mysteries of the Cacao Ceremony
DESCRIPTION:BOOK HERE
URL:https://theamh.uk/event/unravelling-the-mysteries-of-the-cacao-ceremony/
LOCATION:Online
ATTACH;FMTTYPE=image/png:https://theamh.uk/wp-content/uploads/2026/03/Cacao_ceremony_EB-scaled.png
ORGANIZER;CN="The AMH":MAILTO:masterherbalists@gmail.com
END:VEVENT
BEGIN:VEVENT
DTSTART;TZID=Europe/London:20260428T180000
DTEND;TZID=Europe/London:20260428T193000
DTSTAMP:20260420T162208
CREATED:20260313T081310Z
LAST-MODIFIED:20260313T081310Z
UID:6641-1777399200-1777404600@theamh.uk
SUMMARY:How to grow your practice with ideal clients with Kiran Grover
DESCRIPTION:BOOK HERE
URL:https://theamh.uk/event/how-to-grow-your-practice-with-ideal-clients-with-kiran-grover/
LOCATION:Online
ATTACH;FMTTYPE=image/png:https://theamh.uk/wp-content/uploads/2026/03/Practice-growth-webinar.png
ORGANIZER;CN="The AMH":MAILTO:masterherbalists@gmail.com
END:VEVENT
BEGIN:VEVENT
DTSTART;TZID=Europe/London:20260626T160000
DTEND;TZID=Europe/London:20260628T150000
DTSTAMP:20260420T162208
CREATED:20260108T143217Z
LAST-MODIFIED:20260205T121152Z
UID:6600-1782489600-1782658800@theamh.uk
SUMMARY:AMH Gathering 26th – 28th June 2026
DESCRIPTION:More Info
URL:https://theamh.uk/event/amh-gathering2026/
LOCATION:Royal Agricultrial University\, Stroud Road\, Cirencester\, GL7 6JS\, United Kingdom
ATTACH;FMTTYPE=image/png:https://theamh.uk/wp-content/uploads/2026/01/AMH_gathering_event-page.png
ORGANIZER;CN="The AMH":MAILTO:masterherbalists@gmail.com
END:VEVENT
END:VCALENDAR